BEGIN:VCALENDAR
VERSION:2.0
PRODID:-//TYPO3/NONSGML Calendarize//EN
BEGIN:VEVENT
UID:calendarize-blaesertage-mit-konzertwertung-2026-1
DTSTAMP:20260424T220202
DTSTART;VALUE=DATE:20261115
DTEND;VALUE=DATE:20261116
SUMMARY:Bläsertage mit Konzertwertung 2026
DESCRIPTION:
X-ALT-DESC;FMTTYPE=text/html:
LOCATION:Königswiesen
END:VEVENT
END:VCALENDAR
