BEGIN:VCALENDAR
VERSION:2.0
PRODID:-//TYPO3/NONSGML Calendarize//EN
BEGIN:VEVENT
UID:calendarize-blaesertage-mit-konzertwertung-10
DTSTAMP:20260425T004242
DTSTART:20270417T100000
DTEND:20270418T150000
SUMMARY:Bläsertage mit Konzertwertung
DESCRIPTION:
X-ALT-DESC;FMTTYPE=text/html:
LOCATION:Marchtrenk
END:VEVENT
END:VCALENDAR
