BEGIN:VCALENDAR
VERSION:2.0
PRODID:-//TYPO3/NONSGML Calendarize//EN
BEGIN:VEVENT
UID:calendarize-bezirksmusikfest-omk-neukirchen-an-der-enkanch
DTSTAMP:20260424T192220
DTSTART:20260626T000000
DTEND:20260628T000000
SUMMARY:66. Bezirksmusikfest OMK Neukirchen an der Enknach
DESCRIPTION:
X-ALT-DESC;FMTTYPE=text/html:
LOCATION:
END:VEVENT
END:VCALENDAR
