BEGIN:VCALENDAR
VERSION:2.0
PRODID:-//TYPO3/NONSGML Calendarize//EN
BEGIN:VEVENT
UID:calendarize-bezirksmusikfest-mit-marschwertung-81
DTSTAMP:20260424T192132
DTSTART;VALUE=DATE:20260606
DTEND;VALUE=DATE:20260607
SUMMARY:Bezirksmusikfest mit Marschwertung
DESCRIPTION:
X-ALT-DESC;FMTTYPE=text/html:
LOCATION:Naarn im Machland
END:VEVENT
END:VCALENDAR
