BEGIN:VCALENDAR
VERSION:2.0
PRODID:-//TYPO3/NONSGML Calendarize//EN
BEGIN:VEVENT
UID:calendarize-bezirksmusikfest-mit-marschwertung-4857d766aa-1-20260613
DTSTAMP:20260424T192334
DTSTART;VALUE=DATE:20260613
DTEND;VALUE=DATE:20260614
SUMMARY:Bezirksmusikfest mit Marschwertung
DESCRIPTION:Details werden noch bekannt gegeben ....  
X-ALT-DESC;FMTTYPE=text/html:<p class="text-center">Details werden noch be
 kannt gegeben ....<br /> &nbsp\;</p>
LOCATION:Königswiesen
END:VEVENT
END:VCALENDAR
