BEGIN:VCALENDAR
VERSION:2.0
PRODID:-//TYPO3/NONSGML Calendarize//EN
BEGIN:VEVENT
UID:calendarize-bezirksmusikfest-mit-marschwertung-47
DTSTAMP:20260425T004619
DTSTART;VALUE=DATE:20270612
DTEND;VALUE=DATE:20270613
SUMMARY:BEZIRKSMUSIKFEST MIT MARSCHWERTUNG
DESCRIPTION:Details werden noch bekannt gegeben .....
X-ALT-DESC;FMTTYPE=text/html:<p class="text-center">Details werden noch be
 kannt gegeben .....</p>
LOCATION:Gutau
END:VEVENT
END:VCALENDAR
