BEGIN:VCALENDAR
VERSION:2.0
PRODID:-//TYPO3/NONSGML Calendarize//EN
BEGIN:VEVENT
UID:calendarize-bezirksmusikfest-mit-marschwertung-47-3
DTSTAMP:20260425T020912
DTSTART;VALUE=DATE:20300615
DTEND;VALUE=DATE:20300616
SUMMARY:BEZIRKSMUSIKFEST MIT MARSCHWERTUNG
DESCRIPTION:Details werden noch bekannt gegeben .....
X-ALT-DESC;FMTTYPE=text/html:<p class="text-center">Details werden noch be
 kannt gegeben .....</p>
LOCATION:Grünbach
END:VEVENT
END:VCALENDAR
