BEGIN:VCALENDAR
VERSION:2.0
PRODID:-//TYPO3/NONSGML Calendarize//EN
BEGIN:VEVENT
UID:calendarize-bezirksmusikfest-mit-marschwertung-32
DTSTAMP:20260425T004534
DTSTART;VALUE=DATE:20270618
DTEND;VALUE=DATE:20270621
SUMMARY:Bezirksmusikfest mit Marschwertung
DESCRIPTION:Freitag:\n 	Seniorenwandertag 	Festeröffnung und Bieranstich 
 mit den Gastkapellen 	Festzelt \n\nSamstag:\n 	Bezirksmusikfest mit Marsch
 wertung \n\nSonntag: Tag der Kameradschaft\n 	Feldmesse 	Festakt Kameradsc
 haftsbund 	Frühschoppen 
X-ALT-DESC;FMTTYPE=text/html:<p><strong>Freitag:</strong></p>\n<ul> 	<li>S
 eniorenwandertag</li> 	<li>Festeröffnung und Bieranstich mit den Gastkape
 llen</li> 	<li>Festzelt</li> </ul>\n\n<p><strong>Samstag:</strong></p>\n<u
 l> 	<li>Bezirksmusikfest mit Marschwertung</li> </ul>\n\n<p><strong>Sonnta
 g:</strong> Tag der Kameradschaft</p>\n<ul> 	<li>Feldmesse</li> 	<li>Festa
 kt Kameradschaftsbund</li> 	<li>Frühschoppen</li> </ul>
LOCATION:Eberstalzell (https://www.eberstalzell.at)
END:VEVENT
END:VCALENDAR
