BEGIN:VCALENDAR
VERSION:2.0
PRODID:-//TYPO3/NONSGML Calendarize//EN
BEGIN:VEVENT
UID:calendarize-bezirksmusikfest-mit-marschwertung-2029-3
DTSTAMP:20260425T021009
DTSTART:20310621T143000
DTEND:20310621T235900
SUMMARY:Bezirksmusikfest mit Marschwertung
DESCRIPTION:
X-ALT-DESC;FMTTYPE=text/html:
LOCATION:Herzogsdorf
END:VEVENT
END:VCALENDAR
