BEGIN:VCALENDAR
VERSION:2.0
PRODID:-//TYPO3/NONSGML Calendarize//EN
BEGIN:VEVENT
UID:calendarize-bezirksmusikfest-mit-marschwertung-2029-1
DTSTAMP:20260425T021031
DTSTART:20300622T143000
DTEND:20300622T235900
SUMMARY:Bezirksmusikfest mit Marschwertung
DESCRIPTION:
X-ALT-DESC;FMTTYPE=text/html:
LOCATION:Walding
END:VEVENT
END:VCALENDAR
