BEGIN:VCALENDAR
VERSION:2.0
PRODID:-//TYPO3/NONSGML Calendarize//EN
BEGIN:VEVENT
UID:calendarize-bezirksmusikfest-mit-marchwertung-termin-in-planung
DTSTAMP:20260425T021014
DTSTART;VALUE=DATE:20290615
DTEND;VALUE=DATE:20290702
SUMMARY:Bezirksmusikfest mit Marchwertung (Termin in Planung)
DESCRIPTION:
X-ALT-DESC;FMTTYPE=text/html:
LOCATION:Thalheim bei Wels
END:VEVENT
END:VCALENDAR
