BEGIN:VCALENDAR
VERSION:2.0
PRODID:-//TYPO3/NONSGML Calendarize//EN
BEGIN:VEVENT
UID:calendarize-bezirksmusikfest-arbing
DTSTAMP:20260425T004241
DTSTART;VALUE=DATE:20270619
DTEND;VALUE=DATE:20270620
SUMMARY:Bezirksmusikfest Arbing
DESCRIPTION:
X-ALT-DESC;FMTTYPE=text/html:
LOCATION:Arbing
END:VEVENT
END:VCALENDAR
