BEGIN:VCALENDAR
VERSION:2.0
PRODID:-//TYPO3/NONSGML Calendarize//EN
BEGIN:VEVENT
UID:calendarize-bezirksmusikfest-alkoven
DTSTAMP:20260424T191832
DTSTART;VALUE=DATE:20260605
DTEND;VALUE=DATE:20260608
SUMMARY:Bezirksmusikfest mit Marschwertung
DESCRIPTION:anlässlich 160 Jahre Musikverein Alkoven - Marschwertungstag:
  Sonntag 07. Juni\nmehr erfahren 
X-ALT-DESC;FMTTYPE=text/html:<p>anlässlich 160 Jahre Musikverein Alkoven 
 - Marschwertungstag: Sonntag 07. Juni</p>\n<p><a href="t3://page?uid=7239"
 >mehr erfahren&nbsp\;<i aria-hidden="true" class="fas fa-chevron-circle-ri
 ght"></i></a></p>
LOCATION:Alkoven
END:VEVENT
END:VCALENDAR
