BEGIN:VCALENDAR
VERSION:2.0
PRODID:-//TYPO3/NONSGML Calendarize//EN
BEGIN:VEVENT
UID:calendarize-bezirksmusikfest-2026-mit-marschwertung
DTSTAMP:20260424T192127
DTSTART:20260613T150000
DTEND:20260614T140000
SUMMARY:Bezirksmusikfest 2026 mit Marschwertung
DESCRIPTION:Vom 12. bis 14. Juni 2026 dürfen wir zum 180-jährigen Verein
 sbestehen erstmals das Rohrbacher Bezirksmusikfest ausrichten und freuen u
 ns\, viele Musikbegeisterte in Helfenberg begrüßen zu dürfen.
X-ALT-DESC;FMTTYPE=text/html:<p>Vom 12. bis 14. Juni 2026 dürfen wir zum 
 180-jährigen Vereinsbestehen erstmals das Rohrbacher Bezirksmusikfest aus
 richten und freuen uns\, viele Musikbegeisterte in Helfenberg begrüßen z
 u dürfen.</p>
LOCATION:Sportplatz Helfenberg
END:VEVENT
END:VCALENDAR
