BEGIN:VCALENDAR
VERSION:2.0
PRODID:-//TYPO3/NONSGML Calendarize//EN
BEGIN:VEVENT
UID:calendarize-bezirksmusikfest-2026-2
DTSTAMP:20260424T191808
DTSTART;VALUE=DATE:20260626
DTEND;VALUE=DATE:20260629
SUMMARY:Bezirksmusikfest 2026
DESCRIPTION:Anmeldung erfolgt AUSSCHLIEßLICH über folgenden Link: Zur An
 meldung\nAnmeldeschluss ist am Sonntag\, 03. Mai 2026!\n\nAlle Information
 en werden unter Downloads zu Verfügung gestellt!
X-ALT-DESC;FMTTYPE=text/html:<p>Anmeldung erfolgt AUSSCHLIEßLICH über fo
 lgenden Link: <a href="t3://page?uid=6301">Zur Anmeldung</a></p>\n<p>Anmel
 deschluss ist am <strong>Sonntag\, 03. Mai 2026!</strong></p>\n\n<p>Alle I
 nformationen werden unter <a href="t3://page?uid=1848#14943">Downloads</a>
  zu Verfügung gestellt!</p>
LOCATION:Vorchdorf
END:VEVENT
END:VCALENDAR
