BEGIN:VCALENDAR
VERSION:2.0
PRODID:-//TYPO3/NONSGML Calendarize//EN
BEGIN:VEVENT
UID:calendarize-bezirksmusikfest-14
DTSTAMP:20260425T020758
DTSTART;VALUE=DATE:20280624
DTEND;VALUE=DATE:20280625
SUMMARY:Bezirksmusikfest mit Marschwertung MV Hilbern 
DESCRIPTION:
X-ALT-DESC;FMTTYPE=text/html:
LOCATION:Sierning
END:VEVENT
END:VCALENDAR
