BEGIN:VCALENDAR
VERSION:2.0
PRODID:-//TYPO3/NONSGML Calendarize//EN
BEGIN:VEVENT
UID:calendarize-austrian-fantasy-konzert-der-buergerkapelle-bad-ischl
DTSTAMP:20260424T192043
DTSTART:20260509T193000
SUMMARY:Austrian Fantasy - Konzert der Bürgerkapelle Bad Ischl
DESCRIPTION:
X-ALT-DESC;FMTTYPE=text/html:
LOCATION:Kongress und Theaterhaus Bad Ischl
END:VEVENT
END:VCALENDAR
