BEGIN:VCALENDAR
VERSION:2.0
PRODID:-//TYPO3/NONSGML Calendarize//EN
BEGIN:VEVENT
UID:calendarize-adventkonzert-mit-chor-3
DTSTAMP:20260424T233305
DTSTART:20261208T190000
DTEND:20261208T220000
SUMMARY:Adventkonzert mit Chor
DESCRIPTION:
X-ALT-DESC;FMTTYPE=text/html:
LOCATION:Kirche St. Michael Bindermichl
END:VEVENT
END:VCALENDAR
