BEGIN:VCALENDAR
VERSION:2.0
PRODID:-//TYPO3/NONSGML Calendarize//EN
BEGIN:VEVENT
UID:calendarize-abendkonzert-der-mmk-seewalchen-am-attersee-1
DTSTAMP:20260424T204315
DTSTART:20260812T200000
DTEND:20260812T220000
SUMMARY:Abendkonzert der MMK Seewalchen am Attersee 
DESCRIPTION:
X-ALT-DESC;FMTTYPE=text/html:
LOCATION:Rathausplatz Seewalchen am Attersee (https://maps.app.goo.gl/VP5Y
 wi7qF48VvdYT6)
END:VEVENT
END:VCALENDAR
