BEGIN:VCALENDAR
VERSION:2.0
PRODID:-//TYPO3/NONSGML Calendarize//EN
BEGIN:VEVENT
UID:calendarize-69-bezirksblasmusikfest-mit-marschwertung-1
DTSTAMP:20260425T010355
DTSTART;VALUE=DATE:20280616
DTEND;VALUE=DATE:20280619
SUMMARY:69. Bezirksblasmusikfest mit Marschwertung
DESCRIPTION:
X-ALT-DESC;FMTTYPE=text/html:
LOCATION:St. Georgen bei Obernberg
END:VEVENT
END:VCALENDAR
