BEGIN:VCALENDAR
VERSION:2.0
PRODID:-//TYPO3/NONSGML Calendarize//EN
BEGIN:VEVENT
UID:calendarize-68-bezirksblasmusikfest
DTSTAMP:20260425T004233
DTSTART;VALUE=DATE:20270618
DTEND;VALUE=DATE:20270621
SUMMARY:68. Bezirksblasmusikfest mit Marschwertung
DESCRIPTION:Details folgen zeitgerecht
X-ALT-DESC;FMTTYPE=text/html:<p>Details folgen zeitgerecht</p>
LOCATION:Lambrechten
END:VEVENT
END:VCALENDAR
