BEGIN:VCALENDAR
VERSION:2.0
PRODID:-//TYPO3/NONSGML Calendarize//EN
BEGIN:VEVENT
UID:calendarize-50-kirchenkonzert
DTSTAMP:20260424T220011
DTSTART:20261107T180000
DTEND:20261107T210000
SUMMARY:50. Kirchenkonzert
DESCRIPTION:
X-ALT-DESC;FMTTYPE=text/html:
LOCATION:Stiftsbasilika St. Florian
END:VEVENT
END:VCALENDAR
