BEGIN:VCALENDAR
VERSION:2.0
PRODID:-//TYPO3/NONSGML Calendarize//EN
BEGIN:VEVENT
UID:calendarize-wunschkonzert-24
DTSTAMP:20260425T004357
DTSTART:20261206T150000
DTEND:20261206T170000
SUMMARY:Wunschkonzert
DESCRIPTION:
X-ALT-DESC;FMTTYPE=text/html:
LOCATION:Mehrzwecksaal VS Nußbach
END:VEVENT
END:VCALENDAR
