BEGIN:VCALENDAR
VERSION:2.0
PRODID:-//TYPO3/NONSGML Calendarize//EN
BEGIN:VEVENT
UID:calendarize-wunschkonzert-23
DTSTAMP:20260425T004410
DTSTART:20261205T200000
DTEND:20261205T220000
SUMMARY:Wunschkonzert
DESCRIPTION:
X-ALT-DESC;FMTTYPE=text/html:
LOCATION:Mehrzwecksaal VS Nußbach
END:VEVENT
END:VCALENDAR
