BEGIN:VCALENDAR
VERSION:2.0
PRODID:-//TYPO3/NONSGML Calendarize//EN
BEGIN:VEVENT
UID:calendarize-wunschkonzert-1
DTSTAMP:20260424T191805
DTSTART:20260502T200000
DTEND:20260502T220000
SUMMARY:Wunschkonzert der Ortsmusik St.Marienkirchen am Hausruck
DESCRIPTION:
X-ALT-DESC;FMTTYPE=text/html:
LOCATION:Gasthaus Eichmair\, St.Marienkirchen am Hausruck
END:VEVENT
END:VCALENDAR
