BEGIN:VCALENDAR
VERSION:2.0
PRODID:-//TYPO3/NONSGML Calendarize//EN
BEGIN:VEVENT
UID:calendarize-weihnachtskonzert-1-2
DTSTAMP:20260425T004221
DTSTART:20261220T170000
DTEND:20261220T180000
SUMMARY:Weihnachtskonzert MV Neufelden
DESCRIPTION:
X-ALT-DESC;FMTTYPE=text/html:
LOCATION:Pfarrkirche Neufelden
END:VEVENT
END:VCALENDAR
