BEGIN:VCALENDAR
VERSION:2.0
PRODID:-//TYPO3/NONSGML Calendarize//EN
BEGIN:VEVENT
UID:calendarize-vereinskonzert-43
DTSTAMP:20260424T220425
DTSTART:20261025T193000
DTEND:20261025T220000
SUMMARY:Vereinskonzert
DESCRIPTION:
X-ALT-DESC;FMTTYPE=text/html:
LOCATION:Mittelschule Perg Stadtzentrum
END:VEVENT
END:VCALENDAR
