BEGIN:VCALENDAR
VERSION:2.0
PRODID:-//TYPO3/NONSGML Calendarize//EN
BEGIN:VEVENT
UID:calendarize-themenkonzert-1
DTSTAMP:20260424T191931
DTSTART:20260509T200000
DTEND:20260509T220000
SUMMARY:Themenkonzert im s`Zentrum/Kallham
DESCRIPTION:Konzert im s`Zentrum in Kallham
X-ALT-DESC;FMTTYPE=text/html:Konzert im s`Zentrum in Kallham
LOCATION:4720 Kallham
END:VEVENT
END:VCALENDAR
