BEGIN:VCALENDAR
VERSION:2.0
PRODID:-//TYPO3/NONSGML Calendarize//EN
BEGIN:VEVENT
UID:calendarize-steel-sound
DTSTAMP:20260424T234240
DTSTART:20261126T193000
DTEND:20261126T220000
SUMMARY:“Steel & Sound”
DESCRIPTION:
X-ALT-DESC;FMTTYPE=text/html:
LOCATION:Brucknerhaus
END:VEVENT
END:VCALENDAR
