BEGIN:VCALENDAR
VERSION:2.0
PRODID:-//TYPO3/NONSGML Calendarize//EN
BEGIN:VEVENT
UID:calendarize-stadtteilkonzert-musikverein-ebelsberg-pichling-3
DTSTAMP:20260424T210201
DTSTART:20260904T180000
DTEND:20260904T190000
SUMMARY:Stadtteilkonzert - Musikverein Ebelsberg-Pichling
DESCRIPTION:
X-ALT-DESC;FMTTYPE=text/html:
LOCATION:Solar City
END:VEVENT
END:VCALENDAR
