BEGIN:VCALENDAR
VERSION:2.0
PRODID:-//TYPO3/NONSGML Calendarize//EN
BEGIN:VEVENT
UID:calendarize-sommernachtskonzert-21
DTSTAMP:20260424T204206
DTSTART:20260718T193000
SUMMARY:Sommernachtskonzert
DESCRIPTION:
X-ALT-DESC;FMTTYPE=text/html:
LOCATION:Vor dem Gemeindezentrum Fischlham
END:VEVENT
END:VCALENDAR
