BEGIN:VCALENDAR
VERSION:2.0
PRODID:-//TYPO3/NONSGML Calendarize//EN
BEGIN:VEVENT
UID:calendarize-sommernachtskonzert-1-2
DTSTAMP:20260424T191653
DTSTART:20260604T180000
DTEND:20260604T220000
SUMMARY:Sommernachtskonzert
DESCRIPTION:Konzert mit wunderschönen Ambiente in einem Innenhof eines Ba
 uernhofes. Und natürlich mit bestern Musik sowie Verpflegung.
X-ALT-DESC;FMTTYPE=text/html:Konzert mit wunderschönen Ambiente in einem 
 Innenhof eines Bauernhofes. Und natürlich mit bestern Musik sowie Verpfle
 gung.
LOCATION:Kematen am Innbach (https://www.kematen-innbach.at/)
END:VEVENT
END:VCALENDAR
