BEGIN:VCALENDAR
VERSION:2.0
PRODID:-//TYPO3/NONSGML Calendarize//EN
BEGIN:VEVENT
UID:calendarize-radio-ooe-fruehschoppen-17-1-1-9
DTSTAMP:20260424T210431
DTSTART:20260830T100000
DTEND:20260830T120000
SUMMARY:Radio OÖ Frühschoppen
DESCRIPTION:
X-ALT-DESC;FMTTYPE=text/html:
LOCATION:Haus der Dorfgemeinschaft
END:VEVENT
END:VCALENDAR
