BEGIN:VCALENDAR
VERSION:2.0
PRODID:-//TYPO3/NONSGML Calendarize//EN
BEGIN:VEVENT
UID:calendarize-radio-ooe-fruehschoppen-17-1-1-8
DTSTAMP:20260424T204629
DTSTART:20260809T100000
DTEND:20260809T120000
SUMMARY:Radio OÖ Frühschoppen
DESCRIPTION:
X-ALT-DESC;FMTTYPE=text/html:
LOCATION:
END:VEVENT
END:VCALENDAR
