BEGIN:VCALENDAR
VERSION:2.0
PRODID:-//TYPO3/NONSGML Calendarize//EN
BEGIN:VEVENT
UID:calendarize-radio-ooe-fruehschoppen-17-1-1-7
DTSTAMP:20260424T194005
DTSTART:20260705T100000
DTEND:20260705T120000
SUMMARY:Radio OÖ Frühschoppen
DESCRIPTION:
X-ALT-DESC;FMTTYPE=text/html:
LOCATION:Festivalgelände Woodstock der Blasmusik
END:VEVENT
END:VCALENDAR
