BEGIN:VCALENDAR
VERSION:2.0
PRODID:-//TYPO3/NONSGML Calendarize//EN
BEGIN:VEVENT
UID:calendarize-radio-ooe-fruehschoppen-17-1-1-6
DTSTAMP:20260424T192222
DTSTART:20260607T100000
DTEND:20260607T120000
SUMMARY:Radio OÖ Frühschoppen
DESCRIPTION:
X-ALT-DESC;FMTTYPE=text/html:
LOCATION:Turnsaal der Volksschule Zell am Pettenfirst
END:VEVENT
END:VCALENDAR
