BEGIN:VCALENDAR
VERSION:2.0
PRODID:-//TYPO3/NONSGML Calendarize//EN
BEGIN:VEVENT
UID:calendarize-radio-ooe-fruehschoppen-17-1-1-4
DTSTAMP:20260424T192208
DTSTART:20260503T100000
DTEND:20260503T120000
SUMMARY:Radio OÖ Frühschoppen
DESCRIPTION:
X-ALT-DESC;FMTTYPE=text/html:
LOCATION:Urfahrmarktgelände\, Linz
END:VEVENT
END:VCALENDAR
