BEGIN:VCALENDAR
VERSION:2.0
PRODID:-//TYPO3/NONSGML Calendarize//EN
BEGIN:VEVENT
UID:calendarize-radio-ooe-fruehschoppen-17-1-1-3
DTSTAMP:20260424T192210
DTSTART:20260426T100000
DTEND:20260426T120000
SUMMARY:Radio OÖ Frühschoppen
DESCRIPTION:
X-ALT-DESC;FMTTYPE=text/html:
LOCATION:Veranstaltungsstadl Baumkronenweg\, Knechtelsdorf 3\, Kopfing
END:VEVENT
END:VCALENDAR
