BEGIN:VCALENDAR
VERSION:2.0
PRODID:-//TYPO3/NONSGML Calendarize//EN
BEGIN:VEVENT
UID:calendarize-radio-ooe-fruehschoppen-17-1-1-15
DTSTAMP:20260425T004850
DTSTART:20261213T100000
DTEND:20261213T120000
SUMMARY:Radio OÖ Frühschoppen
DESCRIPTION:
X-ALT-DESC;FMTTYPE=text/html:
LOCATION:Veranstaltungszentrum Wartberg
END:VEVENT
END:VCALENDAR
