BEGIN:VCALENDAR
VERSION:2.0
PRODID:-//TYPO3/NONSGML Calendarize//EN
BEGIN:VEVENT
UID:calendarize-radio-ooe-fruehschoppen-17-1-1-13
DTSTAMP:20260424T232244
DTSTART:20261115T100000
DTEND:20261115T120000
SUMMARY:Radio OÖ Frühschoppen
DESCRIPTION:
X-ALT-DESC;FMTTYPE=text/html:
LOCATION:Gasthaus Pammer
END:VEVENT
END:VCALENDAR
