BEGIN:VCALENDAR
VERSION:2.0
PRODID:-//TYPO3/NONSGML Calendarize//EN
BEGIN:VEVENT
UID:calendarize-radio-ooe-fruehschoppen-17-1-1-12
DTSTAMP:20260424T220644
DTSTART:20261018T100000
DTEND:20261018T120000
SUMMARY:Radio OÖ Frühschoppen
DESCRIPTION:
X-ALT-DESC;FMTTYPE=text/html:
LOCATION:Stockschützenhalle St. Georgen am Fillmannsbach
END:VEVENT
END:VCALENDAR
