BEGIN:VCALENDAR
VERSION:2.0
PRODID:-//TYPO3/NONSGML Calendarize//EN
BEGIN:VEVENT
UID:calendarize-radio-ooe-fruehschoppen-17-1-1-11
DTSTAMP:20260424T210150
DTSTART:20260927T100000
DTEND:20260927T120000
SUMMARY:Radio OÖ Frühschoppen
DESCRIPTION:
X-ALT-DESC;FMTTYPE=text/html:
LOCATION:Oberbank Donauforum\, Linz
END:VEVENT
END:VCALENDAR
