BEGIN:VCALENDAR
VERSION:2.0
PRODID:-//TYPO3/NONSGML Calendarize//EN
BEGIN:VEVENT
UID:calendarize-polizeimusik-ooe-platzkonzert-und-grosser-zapfenstreich
DTSTAMP:20260424T192447
DTSTART:20260619T193000
SUMMARY:Polizeimusik OÖ | Platzkonzert und großer Zapfenstreich
DESCRIPTION:
X-ALT-DESC;FMTTYPE=text/html:
LOCATION:Stroheim
END:VEVENT
END:VCALENDAR
