BEGIN:VCALENDAR
VERSION:2.0
PRODID:-//TYPO3/NONSGML Calendarize//EN
BEGIN:VEVENT
UID:calendarize-platzkonzert-spielmannszug-2
DTSTAMP:20260424T204458
DTSTART:20260728T190000
DTEND:20260728T200000
SUMMARY:Platzkonzert - Spielmannszug
DESCRIPTION:
X-ALT-DESC;FMTTYPE=text/html:
LOCATION:Hauptplatz (https://www.in-linz-erklingts.at)
END:VEVENT
END:VCALENDAR
