BEGIN:VCALENDAR
VERSION:2.0
PRODID:-//TYPO3/NONSGML Calendarize//EN
BEGIN:VEVENT
UID:calendarize-platzkonzert-linzer-boehmische-2
DTSTAMP:20260424T210021
DTSTART:20260818T190000
DTEND:20260818T200000
SUMMARY:Platzkonzert - Linzer Böhmische
DESCRIPTION:
X-ALT-DESC;FMTTYPE=text/html:
LOCATION:Hauptplatz (https://www.in-linz-erklingts.at)
END:VEVENT
END:VCALENDAR
