BEGIN:VCALENDAR
VERSION:2.0
PRODID:-//TYPO3/NONSGML Calendarize//EN
BEGIN:VEVENT
UID:calendarize-platzkonzert-kolping-blasorchester-4
DTSTAMP:20260424T204408
DTSTART:20260707T190000
DTEND:20260707T200000
SUMMARY:Platzkonzert - Kolping Blasorchester
DESCRIPTION:
X-ALT-DESC;FMTTYPE=text/html:
LOCATION:Hauptplatz (https://www.in-linz-erklingts.at)
END:VEVENT
END:VCALENDAR
