BEGIN:VCALENDAR
VERSION:2.0
PRODID:-//TYPO3/NONSGML Calendarize//EN
BEGIN:VEVENT
UID:calendarize-platzkonzert-kepler-blasorchester-1
DTSTAMP:20260424T194049
DTSTART:20260630T190000
DTEND:20260630T200000
SUMMARY:Platzkonzert - Kepler Blasorchester
DESCRIPTION:
X-ALT-DESC;FMTTYPE=text/html:
LOCATION:Hauptplatz (https://www.in-linz-erklingts.at)
END:VEVENT
END:VCALENDAR
