BEGIN:VCALENDAR
VERSION:2.0
PRODID:-//TYPO3/NONSGML Calendarize//EN
BEGIN:VEVENT
UID:calendarize-platzkonzert-des-musikverein-haslach
DTSTAMP:20260424T192331
DTSTART:20260603T203000
DTEND:20260603T220000
SUMMARY:Platzkonzert des Musikverein Haslach
DESCRIPTION:Am Vorabend des Fronleichnamsfestes findet das traditionelle P
 latzkonzert am Marktplatz in Haslach statt.
X-ALT-DESC;FMTTYPE=text/html:Am Vorabend des Fronleichnamsfestes findet da
 s traditionelle Platzkonzert am Marktplatz in Haslach statt.
LOCATION:Haslach an der Mühl
END:VEVENT
END:VCALENDAR
