BEGIN:VCALENDAR
VERSION:2.0
PRODID:-//TYPO3/NONSGML Calendarize//EN
BEGIN:VEVENT
UID:calendarize-platzkonzert-bz-jugendorchester-linz
DTSTAMP:20260424T204628
DTSTART:20260721T190000
DTEND:20260721T200000
SUMMARY:Platzkonzert - BZ-Jugendorchester Linz
DESCRIPTION:
X-ALT-DESC;FMTTYPE=text/html:
LOCATION:Hauptplatz (https://www.in-linz-erklingts.at)
END:VEVENT
END:VCALENDAR
