BEGIN:VCALENDAR
VERSION:2.0
PRODID:-//TYPO3/NONSGML Calendarize//EN
BEGIN:VEVENT
UID:calendarize-platzkonzert-5
DTSTAMP:20260424T191749
DTSTART:20260608T200000
DTEND:20260608T210000
SUMMARY:Platzkonzert
DESCRIPTION:
X-ALT-DESC;FMTTYPE=text/html:
LOCATION:Wels\, Pfarrplatz Pernau (Pfarrplatz Pernau - Wels)
END:VEVENT
END:VCALENDAR
